BEGIN:VCALENDAR
VERSION:2.0
PRODID:-//Tukios.com/
BEGIN:VEVENT
UID:ad2aee2a-16a7-4596-8344-a31e042d1c55@www.okfhc.com
DTSTAMP:20260422T195346Z
DTSTART:20260605T220000Z
DTEND:20260606T000000Z
SUMMARY:Visitation
DESCRIPTION:
URL:https://www.okfhc.com/obituaries/james-nyberg
LOCATION: 601 W 21st St  Yankton SD 57078
GEO:42.8903051;-97.4005182
END:VEVENT
END:VCALENDAR