BEGIN:VCALENDAR
VERSION:2.0
PRODID:-//Tukios.com/
BEGIN:VEVENT
UID:95b570d1-7ac2-479f-a42c-99ceedb12092@www.okfhc.com
DTSTAMP:20260422T195528Z
DTSTART:20260606T153000Z
DTEND:20260606T163000Z
SUMMARY:Memorial Service
DESCRIPTION:
URL:https://www.okfhc.com/obituaries/james-nyberg
LOCATION:  403 Broadway Ave  Yankton SD 57078
GEO:42.8720278;-97.3975001
END:VEVENT
END:VCALENDAR