BEGIN:VCALENDAR
VERSION:2.0
PRODID:-//Tukios.com/
BEGIN:VEVENT
UID:c7d2f5ee-1b29-409b-9e09-9cedaa085a83@www.okfhc.com
DTSTAMP:20260421T010134Z
DTSTART:20260422T220000Z
DTEND:20260423T000000Z
SUMMARY:Visitation
DESCRIPTION:
URL:https://www.okfhc.com/obituaries/ronald-ensenbach
LOCATION: 601 W 21st St  Yankton SD 57078
GEO:42.8903051;-97.4005182
END:VEVENT
END:VCALENDAR