BEGIN:VCALENDAR
VERSION:2.0
PRODID:-//Tukios.com/
BEGIN:VEVENT
UID:d98c5292-8b09-4784-a4a1-917cd657aa05@www.okfhc.com
DTSTAMP:20260421T010325Z
DTSTART:20260423T163000Z
DTEND:20260423T170000Z
SUMMARY:Burial
DESCRIPTION:
URL:https://www.okfhc.com/obituaries/ronald-ensenbach
LOCATION: 2901 Douglas Avenue  Yankton SD 57078
GEO:42.9056198;-97.3925595
END:VEVENT
END:VCALENDAR