BEGIN:VCALENDAR
VERSION:2.0
PRODID:-//Tukios.com/
BEGIN:VEVENT
UID:94cd67bd-ec51-4970-bb63-d676682c11ba@www.okfhc.com
DTSTAMP:20260421T005647Z
DTSTART:20260423T000000Z
DTEND:20260423T010000Z
SUMMARY:Prayer Service
DESCRIPTION:
URL:https://www.okfhc.com/obituaries/ronald-ensenbach
LOCATION: 601 W 21st St  Yankton SD 57078
GEO:42.8903051;-97.4005182
END:VEVENT
END:VCALENDAR