BEGIN:VCALENDAR
VERSION:2.0
PRODID:-//Tukios.com/
BEGIN:VEVENT
UID:c88a3235-0e1f-4a63-9c46-73b844388d03@www.okfhc.com
DTSTAMP:20260421T010003Z
DTSTART:20260423T153000Z
DTEND:20260423T163000Z
SUMMARY:Funeral Service
DESCRIPTION:
URL:https://www.okfhc.com/obituaries/ronald-ensenbach
LOCATION:  1009 Jackson St  Yankton SD 57078
GEO:42.8797362;-97.410592
END:VEVENT
END:VCALENDAR